BEGIN:VCALENDAR
VERSION:2.0
METHOD:PUBLISH
PRODID:-//Accessible Web Design//My Calendar//http://www.joedolson.com//v2.5.16//EN
BEGIN:VEVENT
UID:1751-32
LOCATION:Wakari Church 9 Centennial Ave    
SUMMARY:Parish Council meeting
DTSTAMP:20180221T193000Z
ORGANIZER;CN=flagstaffuser:MAILTO:frazerbarton0@gmail.com
DTSTART:20180221T193000Z
DTEND:20180221T203000Z
URL;VALUE=URI:http://churchatflagstaff.co.nz/calendar/
DESCRIPTION:Monthly meeting for the Parish Council for Flagstaff Community Church.If you have any ideas, issues or concerns please feel free to approach a Parish Councillor about these prior to the meeting so that they can bring this to the group.Please pray for guidance and discernment for the council as they work to lead and govern our church.
CATEGORIES:General
END:VEVENT
BEGIN:VEVENT
UID:1750-31
LOCATION:North Taieri Church     
SUMMARY:Parish Council Advance
DTSTAMP:20180224T090000Z
ORGANIZER;CN=flagstaffuser:MAILTO:frazerbarton0@gmail.com
DTSTART:20180224T090000Z
DTEND:20180224T120000Z
URL;VALUE=URI:http://churchatflagstaff.co.nz/calendar/
DESCRIPTION:The Parish Council Advance will be held at the North Taieri Church.Please join us in prayer for their discernment for the direction and decision-making in our church.
CATEGORIES:General
END:VEVENT
END:VCALENDAR