BEGIN:VCALENDAR
VERSION:2.0
METHOD:PUBLISH
PRODID:-//Accessible Web Design//My Calendar//http://www.joedolson.com//v2.5.16//EN
BEGIN:VEVENT
UID:1749-30
LOCATION:Wakari Church 9 Centennial Ave    
SUMMARY:Christmas Celebration Service
DTSTAMP:20171217T093000Z
ORGANIZER;CN=flagstaffuser:MAILTO:frazerbarton0@gmail.com
DTSTART:20171217T093000Z
DTEND:20171217T103000Z
URL;VALUE=URI:http://churchatflagstaff.co.nz/calendar/
DESCRIPTION:Join us for a Family Celebration Service this ChristmasSpecial guests include the Flagstaff Community Choir, and the service will feature carols and lots of children's activities for the young and young at heart.
CATEGORIES:Worship Service
END:VEVENT
END:VCALENDAR